Workbook
Name Excel_BuiltIn_Print_Area: Sheet1!$A$1:$I$423

Sheet Sheet1
H1: 1
H2: 0.8
H3: 1.3
H4: 2
H5: 1
H6: 0.8
H7: 1.3
H8: 2
A11: NUME CLIENT:
A12: NUMAR TELEFON:
A13: COD MARERIAL:
A14: TRANSPORT DA/NU: | B14: (selectare optiune)
A15: DACA DA: ADRESA DE LIVRARE:
E16: info. "Fibra orientabila ?" la baza tabelului | G16: se noteaza cu "1" abs-ul 0.4/22 mm se noteaza cu "2" abs-ul 2/22 mm
L17: V1.59
G18: Lungime | I18: Latime | K18: I | L18: II
A19: Denumire piesa | B19: Nr. Bucati | C19: Lungime (L) / mm | D19: Latime (l) / mm | E19: Fibra orientabila ? 0 = cu fibra 1= fara fibra | F19: Observatii - material dublat/gauri balamale | G19: ABS L1 | H19: ABS L2 | I19: ABS l1 | J19: ABS l2 | K19: Cod de bare (CODE 128) | L19: Cod de bare (CODE 128)
A403: TOTAL
A405: mp² PAL : | D405: =SUM(Sheet3!C21:'Sheet3'!C400) -> 0
A407: ml ABS 0.4 mm : | D407: =SUM(Sheet3!O21:'Sheet3'!O400) -> 0
A409: ml ABS 2 mm : | D409: =SUM(Sheet3!Y21:'Sheet3'!Y400) -> 0
A411: ml ABS 0.8 mm : | D411: =SUM(Sheet3!AJ21:'Sheet3'!AJ400) -> 0
A413: ml ABS 1.3 mm : | D413: =SUM(Sheet3!AT21:'Sheet3'!AT400) -> 0
A416: Campurile marcate cu * sunt obligatorii.
A418: Nume Client*:
A419: Numar Telefon*:
A420: Transport (Da sau Nu)*
A421: Destinatie
F455: c

Sheet Sheet
A1: =IF(Sheet1!A21<>"",Sheet1!A21,"") | B1: =IF(Sheet1!B21<>"",Sheet1!B21,"") | C1: =IF(Sheet1!C21<>"",Sheet1!C21,"") | D1: =IF(Sheet1!D21<>"",Sheet1!D21,"") | E1: =IF(Sheet1!E21=1,"N",IF(ISNUMBER(B21),"Y")) -> FALSE | F1: =IF(Sheet1!F21<>"",Sheet1!F21,"") | G1: =IF(Sheet1!G21<>"",Sheet1!G21,"") | H1: =IF(Sheet1!H21<>"",Sheet1!H21,"") | I1: =IF(Sheet1!I21<>"",Sheet1!I21,"") | J1: =IF(Sheet1!J21<>"",Sheet1!J21,"") | K1: =IF(Sheet1!K21<>"",Sheet1!K21,"") | L1: =IF(Sheet1!L121<>"",Sheet1!L21,"")
A2: =IF(Sheet1!A22<>"",Sheet1!A22,"") | B2: =IF(Sheet1!B22<>"",Sheet1!B22,"") | C2: =IF(Sheet1!C22<>"",Sheet1!C22,"") | D2: =IF(Sheet1!D22<>"",Sheet1!D22,"") | E2: =IF(Sheet1!E22=1,"N",IF(ISNUMBER(B22),"Y")) -> FALSE | F2: =IF(Sheet1!F22<>"",Sheet1!F22,"") | G2: =IF(Sheet1!G22<>"",Sheet1!G22,"") | H2: =IF(Sheet1!H22<>"",Sheet1!H22,"") | I2: =IF(Sheet1!I22<>"",Sheet1!I22,"") | J2: =IF(Sheet1!J22<>"",Sheet1!J22,"") | K2: =IF(Sheet1!K22<>"",Sheet1!K22,"") | L2: =IF(Sheet1!L122<>"",Sheet1!L22,"")
A3: =IF(Sheet1!A23<>"",Sheet1!A23,"") | B3: =IF(Sheet1!B23<>"",Sheet1!B23,"") | C3: =IF(Sheet1!C23<>"",Sheet1!C23,"") | D3: =IF(Sheet1!D23<>"",Sheet1!D23,"") | E3: =IF(Sheet1!E23=1,"N",IF(ISNUMBER(B23),"Y")) -> FALSE | F3: =IF(Sheet1!F23<>"",Sheet1!F23,"") | G3: =IF(Sheet1!G23<>"",Sheet1!G23,"") | H3: =IF(Sheet1!H23<>"",Sheet1!H23,"") | I3: =IF(Sheet1!I23<>"",Sheet1!I23,"") | J3: =IF(Sheet1!J23<>"",Sheet1!J23,"") | K3: =IF(Sheet1!K23<>"",Sheet1!K23,"") | L3: =IF(Sheet1!L123<>"",Sheet1!L23,"")
A4: =IF(Sheet1!A24<>"",Sheet1!A24,"") | B4: =IF(Sheet1!B24<>"",Sheet1!B24,"") | C4: =IF(Sheet1!C24<>"",Sheet1!C24,"") | D4: =IF(Sheet1!D24<>"",Sheet1!D24,"") | E4: =IF(Sheet1!E24=1,"N",IF(ISNUMBER(B24),"Y")) -> FALSE | F4: =IF(Sheet1!F24<>"",Sheet1!F24,"") | G4: =IF(Sheet1!G24<>"",Sheet1!G24,"") | H4: =IF(Sheet1!H24<>"",Sheet1!H24,"") | I4: =IF(Sheet1!I24<>"",Sheet1!I24,"") | J4: =IF(Sheet1!J24<>"",Sheet1!J24,"") | K4: =IF(Sheet1!K24<>"",Sheet1!K24,"") | L4: =IF(Sheet1!L124<>"",Sheet1!L24,"")
A5: =IF(Sheet1!A25<>"",Sheet1!A25,"") | B5: =IF(Sheet1!B25<>"",Sheet1!B25,"") | C5: =IF(Sheet1!C25<>"",Sheet1!C25,"") | D5: =IF(Sheet1!D25<>"",Sheet1!D25,"") | E5: =IF(Sheet1!E25=1,"N",IF(ISNUMBER(B25),"Y")) -> FALSE | F5: =IF(Sheet1!F25<>"",Sheet1!F25,"") | G5: =IF(Sheet1!G25<>"",Sheet1!G25,"") | H5: =IF(Sheet1!H25<>"",Sheet1!H25,"") | I5: =IF(Sheet1!I25<>"",Sheet1!I25,"") | J5: =IF(Sheet1!J25<>"",Sheet1!J25,"") | K5: =IF(Sheet1!K25<>"",Sheet1!K25,"") | L5: =IF(Sheet1!L125<>"",Sheet1!L25,"")
A6: =IF(Sheet1!A26<>"",Sheet1!A26,"") | B6: =IF(Sheet1!B26<>"",Sheet1!B26,"") | C6: =IF(Sheet1!C26<>"",Sheet1!C26,"") | D6: =IF(Sheet1!D26<>"",Sheet1!D26,"") | E6: =IF(Sheet1!E26=1,"N",IF(ISNUMBER(B26),"Y")) -> FALSE | F6: =IF(Sheet1!F26<>"",Sheet1!F26,"") | G6: =IF(Sheet1!G26<>"",Sheet1!G26,"") | H6: =IF(Sheet1!H26<>"",Sheet1!H26,"") | I6: =IF(Sheet1!I26<>"",Sheet1!I26,"") | J6: =IF(Sheet1!J26<>"",Sheet1!J26,"") | K6: =IF(Sheet1!K26<>"",Sheet1!K26,"") | L6: =IF(Sheet1!L126<>"",Sheet1!L26,"")
A7: =IF(Sheet1!A27<>"",Sheet1!A27,"") | B7: =IF(Sheet1!B27<>"",Sheet1!B27,"") | C7: =IF(Sheet1!C27<>"",Sheet1!C27,"") | D7: =IF(Sheet1!D27<>"",Sheet1!D27,"") | E7: =IF(Sheet1!E27=1,"N",IF(ISNUMBER(B27),"Y")) -> FALSE | F7: =IF(Sheet1!F27<>"",Sheet1!F27,"") | G7: =IF(Sheet1!G27<>"",Sheet1!G27,"") | H7: =IF(Sheet1!H27<>"",Sheet1!H27,"") | I7: =IF(Sheet1!I27<>"",Sheet1!I27,"") | J7: =IF(Sheet1!J27<>"",Sheet1!J27,"") | K7: =IF(Sheet1!K27<>"",Sheet1!K27,"") | L7: =IF(Sheet1!L127<>"",Sheet1!L27,"")
A8: =IF(Sheet1!A28<>"",Sheet1!A28,"") | B8: =IF(Sheet1!B28<>"",Sheet1!B28,"") | C8: =IF(Sheet1!C28<>"",Sheet1!C28,"") | D8: =IF(Sheet1!D28<>"",Sheet1!D28,"") | E8: =IF(Sheet1!E28=1,"N",IF(ISNUMBER(B28),"Y")) -> FALSE | F8: =IF(Sheet1!F28<>"",Sheet1!F28,"") | G8: =IF(Sheet1!G28<>"",Sheet1!G28,"") | H8: =IF(Sheet1!H28<>"",Sheet1!H28,"") | I8: =IF(Sheet1!I28<>"",Sheet1!I28,"") | J8: =IF(Sheet1!J28<>"",Sheet1!J28,"") | K8: =IF(Sheet1!K28<>"",Sheet1!K28,"") | L8: =IF(Sheet1!L128<>"",Sheet1!L28,"")
A9: =IF(Sheet1!A29<>"",Sheet1!A29,"") | B9: =IF(Sheet1!B29<>"",Sheet1!B29,"") | C9: =IF(Sheet1!C29<>"",Sheet1!C29,"") | D9: =IF(Sheet1!D29<>"",Sheet1!D29,"") | E9: =IF(Sheet1!E29=1,"N",IF(ISNUMBER(B29),"Y")) -> FALSE | F9: =IF(Sheet1!F29<>"",Sheet1!F29,"") | G9: =IF(Sheet1!G29<>"",Sheet1!G29,"") | H9: =IF(Sheet1!H29<>"",Sheet1!H29,"") | I9: =IF(Sheet1!I29<>"",Sheet1!I29,"") | J9: =IF(Sheet1!J29<>"",Sheet1!J29,"") | K9: =IF(Sheet1!K29<>"",Sheet1!K29,"") | L9: =IF(Sheet1!L129<>"",Sheet1!L29,"")
A10: =IF(Sheet1!A30<>"",Sheet1!A30,"") | B10: =IF(Sheet1!B30<>"",Sheet1!B30,"") | C10: =IF(Sheet1!C30<>"",Sheet1!C30,"") | D10: =IF(Sheet1!D30<>"",Sheet1!D30,"") | E10: =IF(Sheet1!E30=1,"N",IF(ISNUMBER(B30),"Y")) -> FALSE | F10: =IF(Sheet1!F30<>"",Sheet1!F30,"") | G10: =IF(Sheet1!G30<>"",Sheet1!G30,"") | H10: =IF(Sheet1!H30<>"",Sheet1!H30,"") | I10: =IF(Sheet1!I30<>"",Sheet1!I30,"") | J10: =IF(Sheet1!J30<>"",Sheet1!J30,"") | K10: =IF(Sheet1!K30<>"",Sheet1!K30,"") | L10: =IF(Sheet1!L130<>"",Sheet1!L30,"")
A11: =IF(Sheet1!A31<>"",Sheet1!A31,"") | B11: =IF(Sheet1!B31<>"",Sheet1!B31,"") | C11: =IF(Sheet1!C31<>"",Sheet1!C31,"") | D11: =IF(Sheet1!D31<>"",Sheet1!D31,"") | E11: =IF(Sheet1!E31=1,"N",IF(ISNUMBER(B31),"Y")) -> FALSE | F11: =IF(Sheet1!F31<>"",Sheet1!F31,"") | G11: =IF(Sheet1!G31<>"",Sheet1!G31,"") | H11: =IF(Sheet1!H31<>"",Sheet1!H31,"") | I11: =IF(Sheet1!I31<>"",Sheet1!I31,"") | J11: =IF(Sheet1!J31<>"",Sheet1!J31,"") | K11: =IF(Sheet1!K31<>"",Sheet1!K31,"") | L11: =IF(Sheet1!L131<>"",Sheet1!L31,"")
A12: =IF(Sheet1!A32<>"",Sheet1!A32,"") | B12: =IF(Sheet1!B32<>"",Sheet1!B32,"") | C12: =IF(Sheet1!C32<>"",Sheet1!C32,"") | D12: =IF(Sheet1!D32<>"",Sheet1!D32,"") | E12: =IF(Sheet1!E32=1,"N",IF(ISNUMBER(B32),"Y")) -> FALSE | F12: =IF(Sheet1!F32<>"",Sheet1!F32,"") | G12: =IF(Sheet1!G32<>"",Sheet1!G32,"") | H12: =IF(Sheet1!H32<>"",Sheet1!H32,"") | I12: =IF(Sheet1!I32<>"",Sheet1!I32,"") | J12: =IF(Sheet1!J32<>"",Sheet1!J32,"") | K12: =IF(Sheet1!K32<>"",Sheet1!K32,"") | L12: =IF(Sheet1!L132<>"",Sheet1!L32,"")
... A380: =IF(Sheet1!A400<>"",Sheet1!A400,"") | B380: =IF(Sheet1!B400<>"",Sheet1!B400,"") | C380: =IF(Sheet1!C400<>"",Sheet1!C400,"") | D380: =IF(Sheet1!D400<>"",Sheet1!D400,"") | E380: =IF(Sheet1!E400=1,"N",IF(ISNUMBER(B400),"Y")) -> FALSE | F380: =IF(Sheet1!F400<>"",Sheet1!F400,"") | G380: =IF(Sheet1!G400<>"",Sheet1!G400,"") | H380: =IF(Sheet1!H400<>"",Sheet1!H400,"") | I380: =IF(Sheet1!I400<>"",Sheet1!I400,"") | J380: =IF(Sheet1!J400<>"",Sheet1!J400,"") | K380: =IF(Sheet1!K400<>"",Sheet1!K400,"") | L380: =IF(Sheet1!L500<>"",Sheet1!L400,"")

Sheet Sheet3
BJ2: ABS
BJ3: Se marcheaza cu "1" abs-ul de 0.4/22 mm
BJ4: Se marcheaza cu "2" abs-ul de 2/22 mm
BJ6: ORIENTARE FIBRA
BJ7: Daca nu conteaza orientarea/directia fibrei pe
BJ8: bucatiile de material debitate se marcheaza cu "1"
BJ10: Se va lasa spatiu gol in cazul in care se doreste
BJ11: orientarea fibrei impusa pe Lungime (L)
BJ13: TOTAL
BJ14: mp² PAL :
BJ15: =CONCATENATE(Sheet1!$D$405) -> 0
BJ17: ml ABS 0.4/22 mm :
G18: 0.4 | Q18: 2 | AB18: 0.8 | AL18: 1.3 | BJ18: =CONCATENATE(Sheet1!$D$407) -> 0
C19: mp | G19: L1 | H19: L2 | I19: l1 | J19: l2 | K19: L | L19: l | O19: total 0.4 | Q19: L 1 | R19: L2 | S19: l1 | T19: l2 | U19: L | V19: l | Y19: total 2 | AB19: L1 | AC19: L2 | AD19: l1 | AE19: l2 | AF19: L | AG19: l | AJ19: total: 0.8 | AL19: L 1 | AM19: L2 | AN19: l1 | AO19: l2 | AP19: L | AQ19: l | AT19: total: 1.3
C20: =SUM((Sheet1!C20*Sheet1!D20)/1000000)*Sheet1!B20 -> 0 | G20: =COUNTIF(Sheet1!$G20,"1") -> 0 | H20: =COUNTIF(Sheet1!$H20,"1") -> 0 | I20: =COUNTIF(Sheet1!$I20,"1") -> 0 | J20: =COUNTIF(Sheet1!$J20,"1") -> 0 | K20: =SUM(G20:H20) -> 0 | L20: =SUM(I20:J20) -> 0 | M20: =SUM(Sheet1!$C20)*(K20) -> 0 | N20: =SUM(Sheet1!D20)*(L20) -> 0 | O20: =SUM(M20:N20)*(Sheet1!$B20)/1000 -> 0 | Q20: =COUNTIF(Sheet1!$G20,"2") -> 0 | R20: =COUNTIF(Sheet1!$H20,"2") -> 0 | S20: =COUNTIF(Sheet1!$I20,"2") -> 0 | T20: =COUNTIF(Sheet1!$J20,"2") -> 0 | U20: =SUM(Q20:R20) -> 0 | V20: =SUM(S20:T20) -> 0 | W20: =SUM(Sheet1!$C20)*(U20) -> 0 | X20: =SUM(Sheet1!$D20)*(V20) -> 0 | Y20: =SUM(W20:X20)*(Sheet1!$B20)/1000 -> 0 | AB20: =COUNTIF(Sheet1!$G20,"0.8") -> 0 | AC20: =COUNTIF(Sheet1!$H20,"0.8") -> 0 | AD20: =COUNTIF(Sheet1!$I20,"0.8") -> 0 | AE20: =COUNTIF(Sheet1!$J20,"0.8") -> 0 | AF20: =SUM(AB20:AC20) -> 0 | AG20: =SUM(AD20:AE20) -> 0 | AH20: =SUM(Sheet1!$C20)*(AF20) -> 0 | AI20: =SUM(Sheet1!$D20)*(AG20) -> 0 | AJ20: =SUM(AH20:AI20)*(Sheet1!$B20)/1000 -> 0 | AL20: =COUNTIF(Sheet1!$G20,"1.3") -> 0 | AM20: =COUNTIF(Sheet1!$H20,"1.3") -> 0 | AN20: =COUNTIF(Sheet1!$I20,"1.3") -> 0 | AO20: =COUNTIF(Sheet1!$J20,"1.3") -> 0 | AP20: =SUM(AL20:AM20) -> 0 | AQ20: =SUM(AN20:AO20) -> 0 | AR20: =SUM(Sheet1!$C20)*(AP20) -> 0 | AS20: =SUM(Sheet1!$D20)*(AQ20) -> 0 | AT20: =SUM(AR20:AS20)*(Sheet1!$B20)/1000 -> 0 | BJ20: ml ABS 2/22 mm :
C21: =SUM((Sheet1!C21*Sheet1!D21)/1000000)*Sheet1!B21 -> 0 | G21: =COUNTIF(Sheet1!$G21,"1") -> 0 | H21: =COUNTIF(Sheet1!$H21,"1") -> 0 | I21: =COUNTIF(Sheet1!$I21,"1") -> 0 | J21: =COUNTIF(Sheet1!$J21,"1") -> 0 | K21: =SUM(G21:H21) -> 0 | L21: =SUM(I21:J21) -> 0 | M21: =SUM(Sheet1!$C21)*(K21) -> 0 | N21: =SUM(Sheet1!D21)*(L21) -> 0 | O21: =SUM(M21:N21)*(Sheet1!$B21)/1000 -> 0 | Q21: =COUNTIF(Sheet1!$G21,"2") -> 0 | R21: =COUNTIF(Sheet1!$H21,"2") -> 0 | S21: =COUNTIF(Sheet1!$I21,"2") -> 0 | T21: =COUNTIF(Sheet1!$J21,"2") -> 0 | U21: =SUM(Q21:R21) -> 0 | V21: =SUM(S21:T21) -> 0 | W21: =SUM(Sheet1!$C21)*(U21) -> 0 | X21: =SUM(Sheet1!$D21)*(V21) -> 0 | Y21: =SUM(W21:X21)*(Sheet1!$B21)/1000 -> 0 | AB21: =COUNTIF(Sheet1!$G21,"0.8") -> 0 | AC21: =COUNTIF(Sheet1!$H21,"0.8") -> 0 | AD21: =COUNTIF(Sheet1!$I21,"0.8") -> 0 | AE21: =COUNTIF(Sheet1!$J21,"0.8") -> 0 | AF21: =SUM(AB21:AC21) -> 0 | AG21: =SUM(AD21:AE21) -> 0 | AH21: =SUM(Sheet1!$C21)*(AF21) -> 0 | AI21: =SUM(Sheet1!$D21)*(AG21) -> 0 | AJ21: =SUM(AH21:AI21)*(Sheet1!$B21)/1000 -> 0 | AL21: =COUNTIF(Sheet1!$G21,"1.3") -> 0 | AM21: =COUNTIF(Sheet1!$H21,"1.3") -> 0 | AN21: =COUNTIF(Sheet1!$I21,"1.3") -> 0 | AO21: =COUNTIF(Sheet1!$J21,"1.3") -> 0 | AP21: =SUM(AL21:AM21) -> 0 | AQ21: =SUM(AN21:AO21) -> 0 | AR21: =SUM(Sheet1!$C21)*(AP21) -> 0 | AS21: =SUM(Sheet1!$D21)*(AQ21) -> 0 | AT21: =SUM(AR21:AS21)*(Sheet1!$B21)/1000 -> 0 | BJ21: =CONCATENATE(Sheet1!$D$409) -> 0
C22: =SUM((Sheet1!C22*Sheet1!D22)/1000000)*Sheet1!B22 -> 0 | G22: =COUNTIF(Sheet1!$G22,"1") -> 0 | H22: =COUNTIF(Sheet1!$H22,"1") -> 0 | I22: =COUNTIF(Sheet1!$I22,"1") -> 0 | J22: =COUNTIF(Sheet1!$J22,"1") -> 0 | K22: =SUM(G22:H22) -> 0 | L22: =SUM(I22:J22) -> 0 | M22: =SUM(Sheet1!$C22)*(K22) -> 0 | N22: =SUM(Sheet1!D22)*(L22) -> 0 | O22: =SUM(M22:N22)*(Sheet1!$B22)/1000 -> 0 | Q22: =COUNTIF(Sheet1!$G22,"2") -> 0 | R22: =COUNTIF(Sheet1!$H22,"2") -> 0 | S22: =COUNTIF(Sheet1!$I22,"2") -> 0 | T22: =COUNTIF(Sheet1!$J22,"2") -> 0 | U22: =SUM(Q22:R22) -> 0 | V22: =SUM(S22:T22) -> 0 | W22: =SUM(Sheet1!$C22)*(U22) -> 0 | X22: =SUM(Sheet1!$D22)*(V22) -> 0 | Y22: =SUM(W22:X22)*(Sheet1!$B22)/1000 -> 0 | AB22: =COUNTIF(Sheet1!$G22,"0.8") -> 0 | AC22: =COUNTIF(Sheet1!$H22,"0.8") -> 0 | AD22: =COUNTIF(Sheet1!$I22,"0.8") -> 0 | AE22: =COUNTIF(Sheet1!$J22,"0.8") -> 0 | AF22: =SUM(AB22:AC22) -> 0 | AG22: =SUM(AD22:AE22) -> 0 | AH22: =SUM(Sheet1!$C22)*(AF22) -> 0 | AI22: =SUM(Sheet1!$D22)*(AG22) -> 0 | AJ22: =SUM(AH22:AI22)*(Sheet1!$B22)/1000 -> 0 | AL22: =COUNTIF(Sheet1!$G22,"1.3") -> 0 | AM22: =COUNTIF(Sheet1!$H22,"1.3") -> 0 | AN22: =COUNTIF(Sheet1!$I22,"1.3") -> 0 | AO22: =COUNTIF(Sheet1!$J22,"1.3") -> 0 | AP22: =SUM(AL22:AM22) -> 0 | AQ22: =SUM(AN22:AO22) -> 0 | AR22: =SUM(Sheet1!$C22)*(AP22) -> 0 | AS22: =SUM(Sheet1!$D22)*(AQ22) -> 0 | AT22: =SUM(AR22:AS22)*(Sheet1!$B22)/1000 -> 0
C23: =SUM((Sheet1!C23*Sheet1!D23)/1000000)*Sheet1!B23 -> 0 | G23: =COUNTIF(Sheet1!$G23,"1") -> 0 | H23: =COUNTIF(Sheet1!$H23,"1") -> 0 | I23: =COUNTIF(Sheet1!$I23,"1") -> 0 | J23: =COUNTIF(Sheet1!$J23,"1") -> 0 | K23: =SUM(G23:H23) -> 0 | L23: =SUM(I23:J23) -> 0 | M23: =SUM(Sheet1!$C23)*(K23) -> 0 | N23: =SUM(Sheet1!D23)*(L23) -> 0 | O23: =SUM(M23:N23)*(Sheet1!$B23)/1000 -> 0 | Q23: =COUNTIF(Sheet1!$G23,"2") -> 0 | R23: =COUNTIF(Sheet1!$H23,"2") -> 0 | S23: =COUNTIF(Sheet1!$I23,"2") -> 0 | T23: =COUNTIF(Sheet1!$J23,"2") -> 0 | U23: =SUM(Q23:R23) -> 0 | V23: =SUM(S23:T23) -> 0 | W23: =SUM(Sheet1!$C23)*(U23) -> 0 | X23: =SUM(Sheet1!$D23)*(V23) -> 0 | Y23: =SUM(W23:X23)*(Sheet1!$B23)/1000 -> 0 | AB23: =COUNTIF(Sheet1!$G23,"0.8") -> 0 | AC23: =COUNTIF(Sheet1!$H23,"0.8") -> 0 | AD23: =COUNTIF(Sheet1!$I23,"0.8") -> 0 | AE23: =COUNTIF(Sheet1!$J23,"0.8") -> 0 | AF23: =SUM(AB23:AC23) -> 0 | AG23: =SUM(AD23:AE23) -> 0 | AH23: =SUM(Sheet1!$C23)*(AF23) -> 0 | AI23: =SUM(Sheet1!$D23)*(AG23) -> 0 | AJ23: =SUM(AH23:AI23)*(Sheet1!$B23)/1000 -> 0 | AL23: =COUNTIF(Sheet1!$G23,"1.3") -> 0 | AM23: =COUNTIF(Sheet1!$H23,"1.3") -> 0 | AN23: =COUNTIF(Sheet1!$I23,"1.3") -> 0 | AO23: =COUNTIF(Sheet1!$J23,"1.3") -> 0 | AP23: =SUM(AL23:AM23) -> 0 | AQ23: =SUM(AN23:AO23) -> 0 | AR23: =SUM(Sheet1!$C23)*(AP23) -> 0 | AS23: =SUM(Sheet1!$D23)*(AQ23) -> 0 | AT23: =SUM(AR23:AS23)*(Sheet1!$B23)/1000 -> 0
C24: =SUM((Sheet1!C24*Sheet1!D24)/1000000)*Sheet1!B24 -> 0 | G24: =COUNTIF(Sheet1!$G24,"1") -> 0 | H24: =COUNTIF(Sheet1!$H24,"1") -> 0 | I24: =COUNTIF(Sheet1!$I24,"1") -> 0 | J24: =COUNTIF(Sheet1!$J24,"1") -> 0 | K24: =SUM(G24:H24) -> 0 | L24: =SUM(I24:J24) -> 0 | M24: =SUM(Sheet1!$C24)*(K24) -> 0 | N24: =SUM(Sheet1!D24)*(L24) -> 0 | O24: =SUM(M24:N24)*(Sheet1!$B24)/1000 -> 0 | Q24: =COUNTIF(Sheet1!$G24,"2") -> 0 | R24: =COUNTIF(Sheet1!$H24,"2") -> 0 | S24: =COUNTIF(Sheet1!$I24,"2") -> 0 | T24: =COUNTIF(Sheet1!$J24,"2") -> 0 | U24: =SUM(Q24:R24) -> 0 | V24: =SUM(S24:T24) -> 0 | W24: =SUM(Sheet1!$C24)*(U24) -> 0 | X24: =SUM(Sheet1!$D24)*(V24) -> 0 | Y24: =SUM(W24:X24)*(Sheet1!$B24)/1000 -> 0 | AB24: =COUNTIF(Sheet1!$G24,"0.8") -> 0 | AC24: =COUNTIF(Sheet1!$H24,"0.8") -> 0 | AD24: =COUNTIF(Sheet1!$I24,"0.8") -> 0 | AE24: =COUNTIF(Sheet1!$J24,"0.8") -> 0 | AF24: =SUM(AB24:AC24) -> 0 | AG24: =SUM(AD24:AE24) -> 0 | AH24: =SUM(Sheet1!$C24)*(AF24) -> 0 | AI24: =SUM(Sheet1!$D24)*(AG24) -> 0 | AJ24: =SUM(AH24:AI24)*(Sheet1!$B24)/1000 -> 0 | AL24: =COUNTIF(Sheet1!$G24,"1.3") -> 0 | AM24: =COUNTIF(Sheet1!$H24,"1.3") -> 0 | AN24: =COUNTIF(Sheet1!$I24,"1.3") -> 0 | AO24: =COUNTIF(Sheet1!$J24,"1.3") -> 0 | AP24: =SUM(AL24:AM24) -> 0 | AQ24: =SUM(AN24:AO24) -> 0 | AR24: =SUM(Sheet1!$C24)*(AP24) -> 0 | AS24: =SUM(Sheet1!$D24)*(AQ24) -> 0 | AT24: =SUM(AR24:AS24)*(Sheet1!$B24)/1000 -> 0
C25: =SUM((Sheet1!C25*Sheet1!D25)/1000000)*Sheet1!B25 -> 0 | G25: =COUNTIF(Sheet1!$G25,"1") -> 0 | H25: =COUNTIF(Sheet1!$H25,"1") -> 0 | I25: =COUNTIF(Sheet1!$I25,"1") -> 0 | J25: =COUNTIF(Sheet1!$J25,"1") -> 0 | K25: =SUM(G25:H25) -> 0 | L25: =SUM(I25:J25) -> 0 | M25: =SUM(Sheet1!$C25)*(K25) -> 0 | N25: =SUM(Sheet1!D25)*(L25) -> 0 | O25: =SUM(M25:N25)*(Sheet1!$B25)/1000 -> 0 | Q25: =COUNTIF(Sheet1!$G25,"2") -> 0 | R25: =COUNTIF(Sheet1!$H25,"2") -> 0 | S25: =COUNTIF(Sheet1!$I25,"2") -> 0 | T25: =COUNTIF(Sheet1!$J25,"2") -> 0 | U25: =SUM(Q25:R25) -> 0 | V25: =SUM(S25:T25) -> 0 | W25: =SUM(Sheet1!$C25)*(U25) -> 0 | X25: =SUM(Sheet1!$D25)*(V25) -> 0 | Y25: =SUM(W25:X25)*(Sheet1!$B25)/1000 -> 0 | AB25: =COUNTIF(Sheet1!$G25,"0.8") -> 0 | AC25: =COUNTIF(Sheet1!$H25,"0.8") -> 0 | AD25: =COUNTIF(Sheet1!$I25,"0.8") -> 0 | AE25: =COUNTIF(Sheet1!$J25,"0.8") -> 0 | AF25: =SUM(AB25:AC25) -> 0 | AG25: =SUM(AD25:AE25) -> 0 | AH25: =SUM(Sheet1!$C25)*(AF25) -> 0 | AI25: =SUM(Sheet1!$D25)*(AG25) -> 0 | AJ25: =SUM(AH25:AI25)*(Sheet1!$B25)/1000 -> 0 | AL25: =COUNTIF(Sheet1!$G25,"1.3") -> 0 | AM25: =COUNTIF(Sheet1!$H25,"1.3") -> 0 | AN25: =COUNTIF(Sheet1!$I25,"1.3") -> 0 | AO25: =COUNTIF(Sheet1!$J25,"1.3") -> 0 | AP25: =SUM(AL25:AM25) -> 0 | AQ25: =SUM(AN25:AO25) -> 0 | AR25: =SUM(Sheet1!$C25)*(AP25) -> 0 | AS25: =SUM(Sheet1!$D25)*(AQ25) -> 0 | AT25: =SUM(AR25:AS25)*(Sheet1!$B25)/1000 -> 0
C26: =SUM((Sheet1!C26*Sheet1!D26)/1000000)*Sheet1!B26 -> 0 | G26: =COUNTIF(Sheet1!$G26,"1") -> 0 | H26: =COUNTIF(Sheet1!$H26,"1") -> 0 | I26: =COUNTIF(Sheet1!$I26,"1") -> 0 | J26: =COUNTIF(Sheet1!$J26,"1") -> 0 | K26: =SUM(G26:H26) -> 0 | L26: =SUM(I26:J26) -> 0 | M26: =SUM(Sheet1!$C26)*(K26) -> 0 | N26: =SUM(Sheet1!D26)*(L26) -> 0 | O26: =SUM(M26:N26)*(Sheet1!$B26)/1000 -> 0 | Q26: =COUNTIF(Sheet1!$G26,"2") -> 0 | R26: =COUNTIF(Sheet1!$H26,"2") -> 0 | S26: =COUNTIF(Sheet1!$I26,"2") -> 0 | T26: =COUNTIF(Sheet1!$J26,"2") -> 0 | U26: =SUM(Q26:R26) -> 0 | V26: =SUM(S26:T26) -> 0 | W26: =SUM(Sheet1!$C26)*(U26) -> 0 | X26: =SUM(Sheet1!$D26)*(V26) -> 0 | Y26: =SUM(W26:X26)*(Sheet1!$B26)/1000 -> 0 | AB26: =COUNTIF(Sheet1!$G26,"0.8") -> 0 | AC26: =COUNTIF(Sheet1!$H26,"0.8") -> 0 | AD26: =COUNTIF(Sheet1!$I26,"0.8") -> 0 | AE26: =COUNTIF(Sheet1!$J26,"0.8") -> 0 | AF26: =SUM(AB26:AC26) -> 0 | AG26: =SUM(AD26:AE26) -> 0 | AH26: =SUM(Sheet1!$C26)*(AF26) -> 0 | AI26: =SUM(Sheet1!$D26)*(AG26) -> 0 | AJ26: =SUM(AH26:AI26)*(Sheet1!$B26)/1000 -> 0 | AL26: =COUNTIF(Sheet1!$G26,"1.3") -> 0 | AM26: =COUNTIF(Sheet1!$H26,"1.3") -> 0 | AN26: =COUNTIF(Sheet1!$I26,"1.3") -> 0 | AO26: =COUNTIF(Sheet1!$J26,"1.3") -> 0 | AP26: =SUM(AL26:AM26) -> 0 | AQ26: =SUM(AN26:AO26) -> 0 | AR26: =SUM(Sheet1!$C26)*(AP26) -> 0 | AS26: =SUM(Sheet1!$D26)*(AQ26) -> 0 | AT26: =SUM(AR26:AS26)*(Sheet1!$B26)/1000 -> 0
C27: =SUM((Sheet1!C27*Sheet1!D27)/1000000)*Sheet1!B27 -> 0 | G27: =COUNTIF(Sheet1!$G27,"1") -> 0 | H27: =COUNTIF(Sheet1!$H27,"1") -> 0 | I27: =COUNTIF(Sheet1!$I27,"1") -> 0 | J27: =COUNTIF(Sheet1!$J27,"1") -> 0 | K27: =SUM(G27:H27) -> 0 | L27: =SUM(I27:J27) -> 0 | M27: =SUM(Sheet1!$C27)*(K27) -> 0 | N27: =SUM(Sheet1!D27)*(L27) -> 0 | O27: =SUM(M27:N27)*(Sheet1!$B27)/1000 -> 0 | Q27: =COUNTIF(Sheet1!$G27,"2") -> 0 | R27: =COUNTIF(Sheet1!$H27,"2") -> 0 | S27: =COUNTIF(Sheet1!$I27,"2") -> 0 | T27: =COUNTIF(Sheet1!$J27,"2") -> 0 | U27: =SUM(Q27:R27) -> 0 | V27: =SUM(S27:T27) -> 0 | W27: =SUM(Sheet1!$C27)*(U27) -> 0 | X27: =SUM(Sheet1!$D27)*(V27) -> 0 | Y27: =SUM(W27:X27)*(Sheet1!$B27)/1000 -> 0 | AB27: =COUNTIF(Sheet1!$G27,"0.8") -> 0 | AC27: =COUNTIF(Sheet1!$H27,"0.8") -> 0 | AD27: =COUNTIF(Sheet1!$I27,"0.8") -> 0 | AE27: =COUNTIF(Sheet1!$J27,"0.8") -> 0 | AF27: =SUM(AB27:AC27) -> 0 | AG27: =SUM(AD27:AE27) -> 0 | AH27: =SUM(Sheet1!$C27)*(AF27) -> 0 | AI27: =SUM(Sheet1!$D27)*(AG27) -> 0 | AJ27: =SUM(AH27:AI27)*(Sheet1!$B27)/1000 -> 0 | AL27: =COUNTIF(Sheet1!$G27,"1.3") -> 0 | AM27: =COUNTIF(Sheet1!$H27,"1.3") -> 0 | AN27: =COUNTIF(Sheet1!$I27,"1.3") -> 0 | AO27: =COUNTIF(Sheet1!$J27,"1.3") -> 0 | AP27: =SUM(AL27:AM27) -> 0 | AQ27: =SUM(AN27:AO27) -> 0 | AR27: =SUM(Sheet1!$C27)*(AP27) -> 0 | AS27: =SUM(Sheet1!$D27)*(AQ27) -> 0 | AT27: =SUM(AR27:AS27)*(Sheet1!$B27)/1000 -> 0
C28: =SUM((Sheet1!C28*Sheet1!D28)/1000000)*Sheet1!B28 -> 0 | G28: =COUNTIF(Sheet1!$G28,"1") -> 0 | H28: =COUNTIF(Sheet1!$H28,"1") -> 0 | I28: =COUNTIF(Sheet1!$I28,"1") -> 0 | J28: =COUNTIF(Sheet1!$J28,"1") -> 0 | K28: =SUM(G28:H28) -> 0 | L28: =SUM(I28:J28) -> 0 | M28: =SUM(Sheet1!$C28)*(K28) -> 0 | N28: =SUM(Sheet1!D28)*(L28) -> 0 | O28: =SUM(M28:N28)*(Sheet1!$B28)/1000 -> 0 | Q28: =COUNTIF(Sheet1!$G28,"2") -> 0 | R28: =COUNTIF(Sheet1!$H28,"2") -> 0 | S28: =COUNTIF(Sheet1!$I28,"2") -> 0 | T28: =COUNTIF(Sheet1!$J28,"2") -> 0 | U28: =SUM(Q28:R28) -> 0 | V28: =SUM(S28:T28) -> 0 | W28: =SUM(Sheet1!$C28)*(U28) -> 0 | X28: =SUM(Sheet1!$D28)*(V28) -> 0 | Y28: =SUM(W28:X28)*(Sheet1!$B28)/1000 -> 0 | AB28: =COUNTIF(Sheet1!$G28,"0.8") -> 0 | AC28: =COUNTIF(Sheet1!$H28,"0.8") -> 0 | AD28: =COUNTIF(Sheet1!$I28,"0.8") -> 0 | AE28: =COUNTIF(Sheet1!$J28,"0.8") -> 0 | AF28: =SUM(AB28:AC28) -> 0 | AG28: =SUM(AD28:AE28) -> 0 | AH28: =SUM(Sheet1!$C28)*(AF28) -> 0 | AI28: =SUM(Sheet1!$D28)*(AG28) -> 0 | AJ28: =SUM(AH28:AI28)*(Sheet1!$B28)/1000 -> 0 | AL28: =COUNTIF(Sheet1!$G28,"1.3") -> 0 | AM28: =COUNTIF(Sheet1!$H28,"1.3") -> 0 | AN28: =COUNTIF(Sheet1!$I28,"1.3") -> 0 | AO28: =COUNTIF(Sheet1!$J28,"1.3") -> 0 | AP28: =SUM(AL28:AM28) -> 0 | AQ28: =SUM(AN28:AO28) -> 0 | AR28: =SUM(Sheet1!$C28)*(AP28) -> 0 | AS28: =SUM(Sheet1!$D28)*(AQ28) -> 0 | AT28: =SUM(AR28:AS28)*(Sheet1!$B28)/1000 -> 0
C29: =SUM((Sheet1!C29*Sheet1!D29)/1000000)*Sheet1!B29 -> 0 | G29: =COUNTIF(Sheet1!$G29,"1") -> 0 | H29: =COUNTIF(Sheet1!$H29,"1") -> 0 | I29: =COUNTIF(Sheet1!$I29,"1") -> 0 | J29: =COUNTIF(Sheet1!$J29,"1") -> 0 | K29: =SUM(G29:H29) -> 0 | L29: =SUM(I29:J29) -> 0 | M29: =SUM(Sheet1!$C29)*(K29) -> 0 | N29: =SUM(Sheet1!D29)*(L29) -> 0 | O29: =SUM(M29:N29)*(Sheet1!$B29)/1000 -> 0 | Q29: =COUNTIF(Sheet1!$G29,"2") -> 0 | R29: =COUNTIF(Sheet1!$H29,"2") -> 0 | S29: =COUNTIF(Sheet1!$I29,"2") -> 0 | T29: =COUNTIF(Sheet1!$J29,"2") -> 0 | U29: =SUM(Q29:R29) -> 0 | V29: =SUM(S29:T29) -> 0 | W29: =SUM(Sheet1!$C29)*(U29) -> 0 | X29: =SUM(Sheet1!$D29)*(V29) -> 0 | Y29: =SUM(W29:X29)*(Sheet1!$B29)/1000 -> 0 | AB29: =COUNTIF(Sheet1!$G29,"0.8") -> 0 | AC29: =COUNTIF(Sheet1!$H29,"0.8") -> 0 | AD29: =COUNTIF(Sheet1!$I29,"0.8") -> 0 | AE29: =COUNTIF(Sheet1!$J29,"0.8") -> 0 | AF29: =SUM(AB29:AC29) -> 0 | AG29: =SUM(AD29:AE29) -> 0 | AH29: =SUM(Sheet1!$C29)*(AF29) -> 0 | AI29: =SUM(Sheet1!$D29)*(AG29) -> 0 | AJ29: =SUM(AH29:AI29)*(Sheet1!$B29)/1000 -> 0 | AL29: =COUNTIF(Sheet1!$G29,"1.3") -> 0 | AM29: =COUNTIF(Sheet1!$H29,"1.3") -> 0 | AN29: =COUNTIF(Sheet1!$I29,"1.3") -> 0 | AO29: =COUNTIF(Sheet1!$J29,"1.3") -> 0 | AP29: =SUM(AL29:AM29) -> 0 | AQ29: =SUM(AN29:AO29) -> 0 | AR29: =SUM(Sheet1!$C29)*(AP29) -> 0 | AS29: =SUM(Sheet1!$D29)*(AQ29) -> 0 | AT29: =SUM(AR29:AS29)*(Sheet1!$B29)/1000 -> 0
C30: =SUM((Sheet1!C30*Sheet1!D30)/1000000)*Sheet1!B30 -> 0 | G30: =COUNTIF(Sheet1!$G30,"1") -> 0 | H30: =COUNTIF(Sheet1!$H30,"1") -> 0 | I30: =COUNTIF(Sheet1!$I30,"1") -> 0 | J30: =COUNTIF(Sheet1!$J30,"1") -> 0 | K30: =SUM(G30:H30) -> 0 | L30: =SUM(I30:J30) -> 0 | M30: =SUM(Sheet1!$C30)*(K30) -> 0 | N30: =SUM(Sheet1!D30)*(L30) -> 0 | O30: =SUM(M30:N30)*(Sheet1!$B30)/1000 -> 0 | Q30: =COUNTIF(Sheet1!$G30,"2") -> 0 | R30: =COUNTIF(Sheet1!$H30,"2") -> 0 | S30: =COUNTIF(Sheet1!$I30,"2") -> 0 | T30: =COUNTIF(Sheet1!$J30,"2") -> 0 | U30: =SUM(Q30:R30) -> 0 | V30: =SUM(S30:T30) -> 0 | W30: =SUM(Sheet1!$C30)*(U30) -> 0 | X30: =SUM(Sheet1!$D30)*(V30) -> 0 | Y30: =SUM(W30:X30)*(Sheet1!$B30)/1000 -> 0 | AB30: =COUNTIF(Sheet1!$G30,"0.8") -> 0 | AC30: =COUNTIF(Sheet1!$H30,"0.8") -> 0 | AD30: =COUNTIF(Sheet1!$I30,"0.8") -> 0 | AE30: =COUNTIF(Sheet1!$J30,"0.8") -> 0 | AF30: =SUM(AB30:AC30) -> 0 | AG30: =SUM(AD30:AE30) -> 0 | AH30: =SUM(Sheet1!$C30)*(AF30) -> 0 | AI30: =SUM(Sheet1!$D30)*(AG30) -> 0 | AJ30: =SUM(AH30:AI30)*(Sheet1!$B30)/1000 -> 0 | AL30: =COUNTIF(Sheet1!$G30,"1.3") -> 0 | AM30: =COUNTIF(Sheet1!$H30,"1.3") -> 0 | AN30: =COUNTIF(Sheet1!$I30,"1.3") -> 0 | AO30: =COUNTIF(Sheet1!$J30,"1.3") -> 0 | AP30: =SUM(AL30:AM30) -> 0 | AQ30: =SUM(AN30:AO30) -> 0 | AR30: =SUM(Sheet1!$C30)*(AP30) -> 0 | AS30: =SUM(Sheet1!$D30)*(AQ30) -> 0 | AT30: =SUM(AR30:AS30)*(Sheet1!$B30)/1000 -> 0
C31: =SUM((Sheet1!C31*Sheet1!D31)/1000000)*Sheet1!B31 -> 0 | G31: =COUNTIF(Sheet1!$G31,"1") -> 0 | H31: =COUNTIF(Sheet1!$H31,"1") -> 0 | I31: =COUNTIF(Sheet1!$I31,"1") -> 0 | J31: =COUNTIF(Sheet1!$J31,"1") -> 0 | K31: =SUM(G31:H31) -> 0 | L31: =SUM(I31:J31) -> 0 | M31: =SUM(Sheet1!$C31)*(K31) -> 0 | N31: =SUM(Sheet1!D31)*(L31) -> 0 | O31: =SUM(M31:N31)*(Sheet1!$B31)/1000 -> 0 | Q31: =COUNTIF(Sheet1!$G31,"2") -> 0 | R31: =COUNTIF(Sheet1!$H31,"2") -> 0 | S31: =COUNTIF(Sheet1!$I31,"2") -> 0 | T31: =COUNTIF(Sheet1!$J31,"2") -> 0 | U31: =SUM(Q31:R31) -> 0 | V31: =SUM(S31:T31) -> 0 | W31: =SUM(Sheet1!$C31)*(U31) -> 0 | X31: =SUM(Sheet1!$D31)*(V31) -> 0 | Y31: =SUM(W31:X31)*(Sheet1!$B31)/1000 -> 0 | AB31: =COUNTIF(Sheet1!$G31,"0.8") -> 0 | AC31: =COUNTIF(Sheet1!$H31,"0.8") -> 0 | AD31: =COUNTIF(Sheet1!$I31,"0.8") -> 0 | AE31: =COUNTIF(Sheet1!$J31,"0.8") -> 0 | AF31: =SUM(AB31:AC31) -> 0 | AG31: =SUM(AD31:AE31) -> 0 | AH31: =SUM(Sheet1!$C31)*(AF31) -> 0 | AI31: =SUM(Sheet1!$D31)*(AG31) -> 0 | AJ31: =SUM(AH31:AI31)*(Sheet1!$B31)/1000 -> 0 | AL31: =COUNTIF(Sheet1!$G31,"1.3") -> 0 | AM31: =COUNTIF(Sheet1!$H31,"1.3") -> 0 | AN31: =COUNTIF(Sheet1!$I31,"1.3") -> 0 | AO31: =COUNTIF(Sheet1!$J31,"1.3") -> 0 | AP31: =SUM(AL31:AM31) -> 0 | AQ31: =SUM(AN31:AO31) -> 0 | AR31: =SUM(Sheet1!$C31)*(AP31) -> 0 | AS31: =SUM(Sheet1!$D31)*(AQ31) -> 0 | AT31: =SUM(AR31:AS31)*(Sheet1!$B31)/1000 -> 0
C32: =SUM((Sheet1!C32*Sheet1!D32)/1000000)*Sheet1!B32 -> 0 | G32: =COUNTIF(Sheet1!$G32,"1") -> 0 | H32: =COUNTIF(Sheet1!$H32,"1") -> 0 | I32: =COUNTIF(Sheet1!$I32,"1") -> 0 | J32: =COUNTIF(Sheet1!$J32,"1") -> 0 | K32: =SUM(G32:H32) -> 0 | L32: =SUM(I32:J32) -> 0 | M32: =SUM(Sheet1!$C32)*(K32) -> 0 | N32: =SUM(Sheet1!D32)*(L32) -> 0 | O32: =SUM(M32:N32)*(Sheet1!$B32)/1000 -> 0 | Q32: =COUNTIF(Sheet1!$G32,"2") -> 0 | R32: =COUNTIF(Sheet1!$H32,"2") -> 0 | S32: =COUNTIF(Sheet1!$I32,"2") -> 0 | T32: =COUNTIF(Sheet1!$J32,"2") -> 0 | U32: =SUM(Q32:R32) -> 0 | V32: =SUM(S32:T32) -> 0 | W32: =SUM(Sheet1!$C32)*(U32) -> 0 | X32: =SUM(Sheet1!$D32)*(V32) -> 0 | Y32: =SUM(W32:X32)*(Sheet1!$B32)/1000 -> 0 | AB32: =COUNTIF(Sheet1!$G32,"0.8") -> 0 | AC32: =COUNTIF(Sheet1!$H32,"0.8") -> 0 | AD32: =COUNTIF(Sheet1!$I32,"0.8") -> 0 | AE32: =COUNTIF(Sheet1!$J32,"0.8") -> 0 | AF32: =SUM(AB32:AC32) -> 0 | AG32: =SUM(AD32:AE32) -> 0 | AH32: =SUM(Sheet1!$C32)*(AF32) -> 0 | AI32: =SUM(Sheet1!$D32)*(AG32) -> 0 | AJ32: =SUM(AH32:AI32)*(Sheet1!$B32)/1000 -> 0 | AL32: =COUNTIF(Sheet1!$G32,"1.3") -> 0 | AM32: =COUNTIF(Sheet1!$H32,"1.3") -> 0 | AN32: =COUNTIF(Sheet1!$I32,"1.3") -> 0 | AO32: =COUNTIF(Sheet1!$J32,"1.3") -> 0 | AP32: =SUM(AL32:AM32) -> 0 | AQ32: =SUM(AN32:AO32) -> 0 | AR32: =SUM(Sheet1!$C32)*(AP32) -> 0 | AS32: =SUM(Sheet1!$D32)*(AQ32) -> 0 | AT32: =SUM(AR32:AS32)*(Sheet1!$B32)/1000 -> 0
C33: =SUM((Sheet1!C33*Sheet1!D33)/1000000)*Sheet1!B33 -> 0 | G33: =COUNTIF(Sheet1!$G33,"1") -> 0 | H33: =COUNTIF(Sheet1!$H33,"1") -> 0 | I33: =COUNTIF(Sheet1!$I33,"1") -> 0 | J33: =COUNTIF(Sheet1!$J33,"1") -> 0 | K33: =SUM(G33:H33) -> 0 | L33: =SUM(I33:J33) -> 0 | M33: =SUM(Sheet1!$C33)*(K33) -> 0 | N33: =SUM(Sheet1!D33)*(L33) -> 0 | O33: =SUM(M33:N33)*(Sheet1!$B33)/1000 -> 0 | Q33: =COUNTIF(Sheet1!$G33,"2") -> 0 | R33: =COUNTIF(Sheet1!$H33,"2") -> 0 | S33: =COUNTIF(Sheet1!$I33,"2") -> 0 | T33: =COUNTIF(Sheet1!$J33,"2") -> 0 | U33: =SUM(Q33:R33) -> 0 | V33: =SUM(S33:T33) -> 0 | W33: =SUM(Sheet1!$C33)*(U33) -> 0 | X33: =SUM(Sheet1!$D33)*(V33) -> 0 | Y33: =SUM(W33:X33)*(Sheet1!$B33)/1000 -> 0 | AB33: =COUNTIF(Sheet1!$G33,"0.8") -> 0 | AC33: =COUNTIF(Sheet1!$H33,"0.8") -> 0 | AD33: =COUNTIF(Sheet1!$I33,"0.8") -> 0 | AE33: =COUNTIF(Sheet1!$J33,"0.8") -> 0 | AF33: =SUM(AB33:AC33) -> 0 | AG33: =SUM(AD33:AE33) -> 0 | AH33: =SUM(Sheet1!$C33)*(AF33) -> 0 | AI33: =SUM(Sheet1!$D33)*(AG33) -> 0 | AJ33: =SUM(AH33:AI33)*(Sheet1!$B33)/1000 -> 0 | AL33: =COUNTIF(Sheet1!$G33,"1.3") -> 0 | AM33: =COUNTIF(Sheet1!$H33,"1.3") -> 0 | AN33: =COUNTIF(Sheet1!$I33,"1.3") -> 0 | AO33: =COUNTIF(Sheet1!$J33,"1.3") -> 0 | AP33: =SUM(AL33:AM33) -> 0 | AQ33: =SUM(AN33:AO33) -> 0 | AR33: =SUM(Sheet1!$C33)*(AP33) -> 0 | AS33: =SUM(Sheet1!$D33)*(AQ33) -> 0 | AT33: =SUM(AR33:AS33)*(Sheet1!$B33)/1000 -> 0
... C400: =SUM((Sheet1!C400*Sheet1!D400)/1000000)*Sheet1!B400 -> 0 | G400: =COUNTIF(Sheet1!$G400,"1") -> 0 | H400: =COUNTIF(Sheet1!$H400,"1") -> 0 | I400: =COUNTIF(Sheet1!$I400,"1") -> 0 | J400: =COUNTIF(Sheet1!$J400,"1") -> 0 | K400: =SUM(G400:H400) -> 0 | L400: =SUM(I400:J400) -> 0 | M400: =SUM(Sheet1!$C400)*(K400) -> 0 | N400: =SUM(Sheet1!D400)*(L400) -> 0 | O400: =SUM(M400:N400)*(Sheet1!$B400)/1000 -> 0 | Q400: =COUNTIF(Sheet1!$G400,"2") -> 0 | R400: =COUNTIF(Sheet1!$H400,"2") -> 0 | S400: =COUNTIF(Sheet1!$I400,"2") -> 0 | T400: =COUNTIF(Sheet1!$J400,"2") -> 0 | U400: =SUM(Q400:R400) -> 0 | V400: =SUM(S400:T400) -> 0 | W400: =SUM(Sheet1!$C400)*(U400) -> 0 | X400: =SUM(Sheet1!$D400)*(V400) -> 0 | Y400: =SUM(W400:X400)*(Sheet1!$B400)/1000 -> 0 | AB400: =COUNTIF(Sheet1!$G400,"0.8") -> 0 | AC400: =COUNTIF(Sheet1!$H400,"0.8") -> 0 | AD400: =COUNTIF(Sheet1!$I400,"0.8") -> 0 | AE400: =COUNTIF(Sheet1!$J400,"0.8") -> 0 | AF400: =SUM(AB400:AC400) -> 0 | AG400: =SUM(AD400:AE400) -> 0 | AH400: =SUM(Sheet1!$C400)*(AF400) -> 0 | AI400: =SUM(Sheet1!$D400)*(AG400) -> 0 | AJ400: =SUM(AH400:AI400)*(Sheet1!$B400)/1000 -> 0 | AL400: =COUNTIF(Sheet1!$G400,"1.3") -> 0 | AM400: =COUNTIF(Sheet1!$H400,"1.3") -> 0 | AN400: =COUNTIF(Sheet1!$I400,"1.3") -> 0 | AO400: =COUNTIF(Sheet1!$J400,"1.3") -> 0 | AP400: =SUM(AL400:AM400) -> 0 | AQ400: =SUM(AN400:AO400) -> 0 | AR400: =SUM(Sheet1!$C400)*(AP400) -> 0 | AS400: =SUM(Sheet1!$D400)*(AQ400) -> 0 | AT400: =SUM(AR400:AS400)*(Sheet1!$B400)/1000 -> 0
